BEGIN:VCALENDAR
METHOD:PUBLISH
VERSION:2.0
CALSCALE:GREGORIAN
PRODID:-//NONSGML WPForms//NONSGML Sugar Calendar Feeds v3.11.0//EN
X-WR-CALNAME:“What Lies Beneath the Feathers?”
X-WR-CALDESC:Farr and Pursey Equine
X-WR-TIMEZONE:UTC
BEGIN:VTIMEZONE
TZID:UTC
BEGIN:STANDARD
TZOFFSETFROM:+0000
TZOFFSETTO:+0000
DTSTART:20251029T070000
TZNAME:UTC
END:STANDARD
END:VTIMEZONE
BEGIN:VTIMEZONE
TZID:UTC
BEGIN:STANDARD
TZOFFSETFROM:+0000
TZOFFSETTO:+0000
DTSTART:20251029T070000
TZNAME:UTC
END:STANDARD
END:VTIMEZONE
BEGIN:VEVENT
SUMMARY:“What Lies Beneath the Feathers?”
DESCRIPTION:&#x1f434\; Cob owners — this one’s for you!\n\nJoin us a
 t our Client Evening for a fascinating talk: “What Lies Beneath the Fe
 athers?”\n\nThose sturdy legs might look solid\, but cobs can be hidin
 g a host of issues under all that feathering. From mud fever and feather
  mites to a plethora of weird and wonderfuls. Rick will be walking you t
 hrough the common leg problems to watch out for — and what to do about
  them.\n\n&#x1f4c5\; 29th April\n&#x1f4cd\; Church Farm Cafe\, Aldbury\n
 &#x1f557\; 7:00pm\n\nSpaces are limited\, so get in touch to reserve you
 r spot! &#x1f447\;\n\n&#x1f4de\; 01442 851921 | &#x1f4e7\; book your tic
 ket below\n#CobOwners #HorseHealth #ClientEvening #WhatLiesBeneathTheFea
 thers #HorseLegHealth #FarrAndPursey
URL;VALUE=URI:https://www.farrandpursey.com/events/what-lies-beneath-the
 -feathers/
UID:urn:uuid:9792f056-435c-40a9-89b5-373c5911e94f
STATUS:CONFIRMED
ORGANIZER:
DTSTAMP:20260425T134233Z
DTSTART;TZID=UTC:20260429T190000
DTEND;TZID=UTC:20260429T203000
LOCATION:“What Lies Beneath the Feathers?”\, Church Farm Cafe\, Aldb
 ury\, Hertfordshire\, HP235RS\, United Kingdom
END:VEVENT
END:VCALENDAR